Workbook

Sheet INSTRUCCIONES
A1: CONTROL DE APORTES JC DAMSU
A2: 1. *Cargar datos en las columnas*:
A3: - *B*: Remuneración sujeta a aporte. (Excluir en caso de no cumplir con carga horaria - JC
A4: - *C*: Suma de conceptos fijos (ej: =10.84+14.46).
A5: - *E*: Días trabajados (usualmente 30).
A6: - *F*: Total de horas trabajadas en el mes.
A7: - *G*: Seleccionar escalafón el de menor carga horaria s/anexo de Res. 1447/2025 (ej: "Horas Nivel Superior").
A8: 2. *Resultado automático*:
A9: - La columna *J* muestra el *total a pagar* aplicando la fórmula normativa.

Sheet Calculo
B2: SIMULADOR JC - DAMSU
B3: DATOS A CARGAR | I3: COD 767 - DAMSU
B4: Remuneracion con Aporte | C4: Conceptos Fijos | D4: Conceptos % | E4: Dias | F4: Total de Horas | G4: Escalafon | I4: Anexo | J4: TOTAL A PAGAR
B5: 2254388.6 | C5: 0 | D5: =+B5-C5 -> 2254388.6 | E5: 30 | F5: 35 | G5: Categoría Ordenanza 91/83-R | I5: =+VLOOKUP(G5,Anexo!$A$5:$C$60,3,FALSE) -> 25 | J5: =IF(F5>I5, (D5+C5)*6%, (D5/F5*I5 + C5)*6%)/30*E5 -> 135263.32
B6: 548774.77 | C6: 10.84 | D6: =+B6-C6 -> 548763.93 | E6: 30 | F6: 10 | G6: Maestro Espec. (NM) | I6: =+VLOOKUP(G6,Anexo!$A$5:$C$60,3,FALSE) -> 24 | J6: =IF(F6>I6, (D6+C6)*6%, (D6/F6*I6 + C6)*6%)/30*E6 -> 79022.656
B7: 1559649.7 | C7: =2.85+39.32 -> 42.17 | D7: =+B7-C7 -> 1559607.5 | E7: 30 | F7: 20 | G7: Docente Universitario | I7: =+VLOOKUP(G7,Anexo!$A$5:$C$60,3,FALSE) -> 40 | J7: =IF(F7>I7, (D7+C7)*6%, (D7/F7*I7 + C7)*6%)/30*E7 -> 187155.43
B8: 2382845.2 | C8: =2.41+6.02+7.23+18.07+7.23+18.07+7.23+18.07+7.23+18.07+7.23+18.07+7.23+18.07+7.23+18.07+7.23+18.07+2.41+6.02 -> 219.26 | D8: =+B8-C8 -> 2382625.9 | E8: 30 | F8: 34 | G8: Horas Nivel Superior | I8: =+VLOOKUP(G8,Anexo!$A$5:$C$60,3,FALSE) -> 24 | J8: =IF(F8>I8, (D8+C8)*6%, (D8/F8*I8 + C8)*6%)/30*E8 -> 142970.71
B9: 627982.74 | C9: =+(7.23+18.07)*3 -> 75.9 | D9: =+B9-C9 -> 627906.84 | E9: 25 | F9: 9 | G9: Preuniversitario | I9: =+VLOOKUP(G9,Anexo!$A$5:$C$60,3,FALSE) -> 36 | J9: =IF(F9>I9, (D9+C9)*6%, (D9/F9*I9 + C9)*6%)/30*E9 -> 125585.16
B10: 250000 | C10: 400 | D10: =+B10-C10 -> 249600 | E10: 30 | F10: 14 | G10: Coordinador | I10: =+VLOOKUP(G10,Anexo!$A$5:$C$60,3,FALSE) -> 40 | J10: =IF(F10>I10, (D10+C10)*6%, (D10/F10*I10 + C10)*6%)/30*E10 -> 42812.571
D11: =+B11-C11 -> 0 | I11: =+VLOOKUP(G11,Anexo!$A$5:$C$60,3,FALSE) -> #N/A | J11: =IF(F11>I11, (D11+C11)*6%, (D11/F11*I11 + C11)*6%)/30*E11 -> #N/A
D12: =+B12-C12 -> 0 | I12: =+VLOOKUP(G12,Anexo!$A$5:$C$60,3,FALSE) -> #N/A | J12: =IF(F12>I12, (D12+C12)*6%, (D12/F12*I12 + C12)*6%)/30*E12 -> #N/A
D13: =+B13-C13 -> 0 | I13: =+VLOOKUP(G13,Anexo!$A$5:$C$60,3,FALSE) -> #N/A | J13: =IF(F13>I13, (D13+C13)*6%, (D13/F13*I13 + C13)*6%)/30*E13 -> #N/A
D14: =+B14-C14 -> 0 | I14: =+VLOOKUP(G14,Anexo!$A$5:$C$60,3,FALSE) -> #N/A | J14: =IF(F14>I14, (D14+C14)*6%, (D14/F14*I14 + C14)*6%)/30*E14 -> #N/A
D15: =+B15-C15 -> 0 | I15: =+VLOOKUP(G15,Anexo!$A$5:$C$60,3,FALSE) -> #N/A | J15: =IF(F15>I15, (D15+C15)*6%, (D15/F15*I15 + C15)*6%)/30*E15 -> #N/A
D16: =+B16-C16 -> 0 | I16: =+VLOOKUP(G16,Anexo!$A$5:$C$60,3,FALSE) -> #N/A | J16: =IF(F16>I16, (D16+C16)*6%, (D16/F16*I16 + C16)*6%)/30*E16 -> #N/A
D17: =+B17-C17 -> 0 | I17: =+VLOOKUP(G17,Anexo!$A$5:$C$60,3,FALSE) -> #N/A | J17: =IF(F17>I17, (D17+C17)*6%, (D17/F17*I17 + C17)*6%)/30*E17 -> #N/A
D18: =+B18-C18 -> 0 | I18: =+VLOOKUP(G18,Anexo!$A$5:$C$60,3,FALSE) -> #N/A | J18: =IF(F18>I18, (D18+C18)*6%, (D18/F18*I18 + C18)*6%)/30*E18 -> #N/A
D19: =+B19-C19 -> 0 | I19: =+VLOOKUP(G19,Anexo!$A$5:$C$60,3,FALSE) -> #N/A | J19: =IF(F19>I19, (D19+C19)*6%, (D19/F19*I19 + C19)*6%)/30*E19 -> #N/A
D20: =+B20-C20 -> 0 | I20: =+VLOOKUP(G20,Anexo!$A$5:$C$60,3,FALSE) -> #N/A | J20: =IF(F20>I20, (D20+C20)*6%, (D20/F20*I20 + C20)*6%)/30*E20 -> #N/A
D21: =+B21-C21 -> 0 | I21: =+VLOOKUP(G21,Anexo!$A$5:$C$60,3,FALSE) -> #N/A | J21: =IF(F21>I21, (D21+C21)*6%, (D21/F21*I21 + C21)*6%)/30*E21 -> #N/A

Sheet Anexo
A4: ESCALAFON | B4: ANEXO - Reglamentacion | F4: Escalafon | G4: Horas
A5: Autoridades | B5: Rector | C5: 40 | F5: =+A5 -> Autoridades | G5: =+C5 -> 40
A6: Autoridades | B6: Vicerrector | C6: 40 | F6: =+A11 -> Coordinador | G6: =+C11 -> 40
A7: Autoridades | B7: Secretario Universitario | C7: 40 | F7: =+A13 -> Docente Universitario | G7: =+C13 -> 40
A8: Autoridades | B8: Decano Facultad | C8: 40 | F8: =+A19 -> Preuniversitario | G8: =+C19 -> 36
A9: Autoridades | B9: Vice Decano Facultad | C9: 40 | F9: =+B36 -> Maestro Espec. (NM) | G9: =+C36 -> 24
A10: Autoridades | B10: Secretario de Facultad | C10: 40 | F10: =+B51 -> Horas Nivel Superior | G10: =+C36 -> 24
A11: Coordinador | B11: Coordinador Facultad | C11: 40 | F11: =+A52 -> Organizadores Ejecutores | G11: 40
A12: Coordinador | B12: Coordinador Universitario Ord 84/04 CS | C12: 40 | F12: =+A53 -> Organismos Artisticos | G12: 40
A13: Docente Universitario | B13: Profesor Titular | C13: 40 | F13: =+A55 -> No docente | G13: 35
A14: Docente Universitario | B14: Profesor Asociado | C14: 40 | F14: =+B60 -> Categoría Ordenanza 91/83-R | G14: 25
A15: Docente Universitario | B15: Profesor Adjunto | C15: 40
A16: Docente Universitario | B16: Jefe Trab. Prácticos | C16: 40
A17: Docente Universitario | B17: Ayudante de 1ra. | C17: 40
A18: Docente Universitario | B18: Ayudante de 2da. | C18: 40
A19: Preuniversitario | B19: Director | C19: 36
A20: Preuniversitario | B20: Vicedirector | C20: 36
A21: Preuniversitario | B21: Anal. Aux. Tec. Doc (NM) | C21: 36
A22: Preuniversitario | B22: Ayte. Clas. Pr. (NM) | C22: 36
A23: Preuniversitario | B23: Ayte. Tec. T.P. (NM) | C23: 36
A24: Preuniversitario | B24: Ayte. Técnico T. (NM) | C24: 36
A25: Preuniversitario | B25: Ayte. Equi. Orien.(NM) | C25: 36
A26: Preuniversitario | B26: Ayte. Trab. Pract.(NM) | C26: 36
... A48: Preuniversitario | B48: Resp. Pedag. CR 6 hs. | C48: 36
A49: =+B49 -> Horas Secundaria | B49: Horas Secundaria | C49: 36
A50: Preuniversitario | B50: Jefe Coord. Dir. Dpto. | C50: 36
A51: Horas Nivel Superior | B51: Horas Nivel Superior | C51: 24
A52: Organizadores Ejecutores | B52: Organismo Ejecutor Ord 75/06 CS | C52: 40
A53: Organismos Artisticos | B53: Org. Art. Ord 32/05 R | C53: 40
A54: No docente | B54: Categoria según CCT 366/06 | C54: 35
A55: No docente | B55: Auxiliar de Gestion Ord 16/2013 | C55: 35
A56: No docente | B56: Categoria según CCT 366/06 | C56: 35
A57: No docente | B57: Categoria según CCT 366/06 | C57: 35
A58: No docente | B58: Categoria según CCT 366/06 | C58: 35
A59: No docente | B59: Categoria según CCT 366/06 | C59: 35
A60: Categoría Ordenanza 91/83-R | B60: Categoría Ordenanza 91/83-R | C60: 25
